BEGIN:VCALENDAR
VERSION:2.0
PRODID:-//Satya Art Gallery - ECPv6.13.2.1//NONSGML v1.0//EN
CALSCALE:GREGORIAN
METHOD:PUBLISH
X-ORIGINAL-URL:https://satyaartgallery.org
X-WR-CALDESC:Events for Satya Art Gallery
REFRESH-INTERVAL;VALUE=DURATION:PT1H
X-Robots-Tag:noindex
X-PUBLISHED-TTL:PT1H
BEGIN:VTIMEZONE
TZID:UTC
BEGIN:STANDARD
TZOFFSETFROM:+0000
TZOFFSETTO:+0000
TZNAME:UTC
DTSTART:20230101T000000
END:STANDARD
END:VTIMEZONE
BEGIN:VTIMEZONE
TZID:Asia/Kolkata
BEGIN:STANDARD
TZOFFSETFROM:+0530
TZOFFSETTO:+0530
TZNAME:IST
DTSTART:20230101T000000
END:STANDARD
END:VTIMEZONE
BEGIN:VEVENT
DTSTART;TZID=UTC:20231002T150000
DTEND;TZID=UTC:20231008T210000
DTSTAMP:20260423T214010
CREATED:20230929T081014Z
LAST-MODIFIED:20230929T081157Z
UID:158-1696258800-1696798800@satyaartgallery.org
SUMMARY:Jail Uday | જેલઉદય
DESCRIPTION:Exhibition of Paintings  \nby Hardik Prajapati\, Manish Parmar \nThe artists are inmates at Sabarmati Central Jail \nOpening: 5pm\, Mon\, 2nd October 2023 \nTimings: 12am – 9pm (Except Mondays and public holidays) \nExhibition ends on Sun\, 8th October 2023 \nAll artworks are for sale. Entire proceeds from sale will go to the artists. Please contact Milan (972 481 7437) for Enquiries. \nVenue: Satya Art Gallery\, Navajivan Trust B/h Gujarat Vidyapith\, Off Ashram Road Navrangpura\, Ahmedabad 380014 \n \nજેલઉદય \nસાબરમતી મધ્યસ્થ જેલના બંદીવાનોએ બનાવેલાં પેઇન્ટિંગ્સનું પ્રદર્શન. \nચિત્રકારો: હાર્દિક પ્રજાપતિ અને મનીષ પરમાર \nઆરંભ: 2 ઑક્ટોબર 2023\, સાંજે 5 વાગ્યે. \nસમય: સવારે 12થી રાતના 9 સુધી \n8 ઑક્ટોબર 2023 સુધી પ્રદર્શની રહેશે. \nસ્થળ: સત્ય આર્ટ ગેલેરી\, નવજીવન ટ્રસ્ટ\, ગૂજરાત વિદ્યાપીઠની પાછળ\, આશ્રમ માર્ગ\, નવરંગપુરા\, અમદાવાદ–380009 \nપ્રદર્શનીમાં મૂકાયેલાં તમામ ચિત્ર વેચાણ માટે છે. તેની પુરેપૂરી રકમ બંદીવાન-ચિત્રકારોને મળશે. \nચિત્રો ખરીદવા માટે સંપર્ક: મિલન – 97248 17437
URL:https://satyaartgallery.org/event/jail-uday-%e0%aa%9c%e0%ab%87%e0%aa%b2%e0%aa%89%e0%aa%a6%e0%aa%af/
LOCATION:Satya Art Gallery\, Satya Art Gallery\, Navajivan Trust\,\, Ahmedabad\, gujarat\, 380014\, India
CATEGORIES:Exhibitions - Paintings
END:VEVENT
BEGIN:VEVENT
DTSTART;VALUE=DATE:20230521
DTEND;VALUE=DATE:20230605
DTSTAMP:20260423T214010
CREATED:20230516T124839Z
LAST-MODIFIED:20230517T052348Z
UID:141-1684627200-1685923199@satyaartgallery.org
SUMMARY:Raaneri Kavyachitra by Amita Upadhyay
DESCRIPTION:Raaneri  Kavyachitra is a beautiful collection of paintings by Amita Upadhyay in Warli and Madhubani style. The collection of paintings are inspired from the poems by Late Shri Manilal Desai. \nThe collection makes reading of the nuances of these poems visual. The bright colours and meticulous strokes are sheer delight. \nકવિ શ્રી મણિલાલ દેસાઈના ભત્રીજી ચિત્રકાર અમિતા ઉપાધ્યાયે કવિની રચનાઓથી પ્રેરાઈને સુંદર ચિત્રો બનાવ્યા છે. મધુબની અને વારલી શૈલીના એ સુંદર ચિત્રોનું પ્રદર્શન નવજીવન ટ્રસ્ટના આંગણિયે જ સત્ય આર્ટ ગેલેરીમાં યોજાશે. \n( ૨૧ મે થી ૦૪ જૂન સુધી ચિત્રપ્રદર્શન ખૂલ્લું રહેશે ) \n 
URL:https://satyaartgallery.org/event/raaneri-kavyachitra-by-amita-upadhyay/
LOCATION:Satya Art Gallery\, Satya Art Gallery\, Navajivan Trust\,\, Ahmedabad\, gujarat\, 380014\, India
CATEGORIES:Exhibitions - Paintings
ATTACH;FMTTYPE=image/jpeg:https://satyaartgallery.org/wp-content/uploads/2023/05/WhatsApp-Image-2023-05-16-at-3.29.46-PM.jpeg
END:VEVENT
END:VCALENDAR