BEGIN:VCALENDAR
VERSION:2.0
PRODID:-//Satya Art Gallery - ECPv6.13.2.1//NONSGML v1.0//EN
CALSCALE:GREGORIAN
METHOD:PUBLISH
X-WR-CALNAME:Satya Art Gallery
X-ORIGINAL-URL:https://satyaartgallery.org
X-WR-CALDESC:Events for Satya Art Gallery
REFRESH-INTERVAL;VALUE=DURATION:PT1H
X-Robots-Tag:noindex
X-PUBLISHED-TTL:PT1H
BEGIN:VTIMEZONE
TZID:Asia/Kolkata
BEGIN:STANDARD
TZOFFSETFROM:+0530
TZOFFSETTO:+0530
TZNAME:IST
DTSTART:20250101T000000
END:STANDARD
END:VTIMEZONE
BEGIN:VTIMEZONE
TZID:UTC
BEGIN:STANDARD
TZOFFSETFROM:+0000
TZOFFSETTO:+0000
TZNAME:UTC
DTSTART:20240101T000000
END:STANDARD
END:VTIMEZONE
BEGIN:VTIMEZONE
TZID:Asia/Kolkata
BEGIN:STANDARD
TZOFFSETFROM:+0530
TZOFFSETTO:+0530
TZNAME:IST
DTSTART:20230101T000000
END:STANDARD
END:VTIMEZONE
BEGIN:VEVENT
DTSTART;VALUE=DATE:20250301
DTEND;VALUE=DATE:20250317
DTSTAMP:20260423T190815
CREATED:20250225T090631Z
LAST-MODIFIED:20250225T101912Z
UID:187-1740787200-1742169599@satyaartgallery.org
SUMMARY:Muddy Trails... Exhibition of Photographs by Shri. Suresh Parekh
DESCRIPTION:
URL:https://satyaartgallery.org/event/muddy-trails-exhibition-of-photographs-by-shri-suresh-parekh/
LOCATION:Satya Art Gallery\, Satya Art Gallery\, Navajivan Trust\,\, Ahmedabad\, gujarat\, 380014\, India
CATEGORIES:Exhibition - Photography
END:VEVENT
BEGIN:VEVENT
DTSTART;VALUE=DATE:20241115
DTEND;VALUE=DATE:20241216
DTSTAMP:20260423T190815
CREATED:20241111T090108Z
LAST-MODIFIED:20241111T093302Z
UID:181-1731628800-1734307199@satyaartgallery.org
SUMMARY:‘PHOTOGRAPHY STRICTLY PROHIBITED’ - An exhibition of photographs by NAVROZE CONTRACTOR
DESCRIPTION:‘Photography Strictly Prohibited’ \nA Navroze Contractor Retrospective \nOpens on the 15th Nov till 15th Dec\n@ Satya Art Gallery\, Navajivan\, Ahmedabad \nA special monograph on Navroze will be released on the occasion. Watch out this space for details on film screenings as well \nFriends in and travelling to Ahmedabad don’t miss this fantastic exhibition! \nCurated by :\nSanjiv Shah\nHimanshu Panchal\nAnuj Ambalal
URL:https://satyaartgallery.org/event/photography-strictly-prohibited-an-exhibition-of-photographs-by-navroze-contractor/
LOCATION:Satya Art Gallery\, Satya Art Gallery\, Navajivan Trust\,\, Ahmedabad\, gujarat\, 380014\, India
CATEGORIES:Exhibition - Photography
END:VEVENT
BEGIN:VEVENT
DTSTART;TZID=Asia/Kolkata:20231125T120000
DTEND;TZID=Asia/Kolkata:20231203T210000
DTSTAMP:20260423T190815
CREATED:20231123T064149Z
LAST-MODIFIED:20231123T064249Z
UID:166-1700913600-1701637200@satyaartgallery.org
SUMMARY:Still I Breath in my Photographs - Dhairyakant Chauhan (Titi)
DESCRIPTION:Still I Breathe In My Photographs by Dhairyakant Chauhan (Titi) \n  \n 
URL:https://satyaartgallery.org/event/still-i-breath-in-my-photographs-dhairyakant-chauhan-titi/
LOCATION:Satya Art Gallery\, Satya Art Gallery\, Navajivan Trust\,\, Ahmedabad\, gujarat\, 380014\, India
CATEGORIES:Exhibition - Photography
END:VEVENT
BEGIN:VEVENT
DTSTART;TZID=Asia/Kolkata:20230818T120000
DTEND;TZID=Asia/Kolkata:20230923T210000
DTSTAMP:20260423T190815
CREATED:20230817T041718Z
LAST-MODIFIED:20230817T041718Z
UID:146-1692360000-1695502800@satyaartgallery.org
SUMMARY:Mystic Peak - Capturing the Divine Essence of Shiva's Abode
DESCRIPTION:  \nWe cordially invite you to exhibition of photographs by Shri Mahesh Joshi.\, Mystic Peak – Capturing the Divine Essence ofShiva’s Abode.Join us in embarking on a visual journey to the sacred mountains associated with Lord Shiv.Time: 12pm – 9pmOpening: 6pm\, Fri\, 18th August\, 2023Open Till: Sat\, 23rd September\, 2023(Gallery remains closed on Mondays and public holidays).Venue:Satya Art GalleryNavajivan TrustB/h Gujarat VidyapithOff Ashram RoadNavrangpuraAhmedabad 380 014 \n 
URL:https://satyaartgallery.org/event/mystic-peak-capturing-the-divine-essence-of-shivas-abode/
LOCATION:Satya Art Gallery\, Satya Art Gallery\, Navajivan Trust\,\, Ahmedabad\, gujarat\, 380014\, India
CATEGORIES:Exhibition - Photography
END:VEVENT
END:VCALENDAR